BEGIN:VCALENDAR
VERSION:2.0
PRODID:-//ChamberMaster//Event Calendar 2.0//EN
METHOD:PUBLISH
X-PUBLISHED-TTL:P3D
REFRESH-INTERVAL:P3D
CALSCALE:GREGORIAN
BEGIN:VEVENT
DTSTART:20271028T220000Z
DTEND:20271029T020000Z
X-MICROSOFT-CDO-ALLDAYEVENT:FALSE
SUMMARY:2027 Evening of Excellence Gala | SAVE THE DATE
DESCRIPTION:Save the date for the 2027 Evening of Excellence!
X-ALT-DESC;FMTTYPE=text/html:<b style="font-size: 20px\;">Save the date for the 2027&nbsp\;</b><span style="font-size: 20px\;"><b>Evening</b></span><b style="font-size: 20px\;">&nbsp\;of Excellence!</b><br />\n<br />\n<br />\n<br />\n<br />\n<br />\n<br />\n&nbsp\;
LOCATION:
UID:e.123.8448
SEQUENCE:3
DTSTAMP:20260421T130548Z
URL:https://business.cottagegrovechamber.org/events/details/2027-evening-of-excellence-gala-save-the-date-8448
END:VEVENT

END:VCALENDAR
