BEGIN:VCALENDAR
VERSION:2.0
PRODID:-//ChamberMaster//Event Calendar 2.0//EN
METHOD:PUBLISH
X-PUBLISHED-TTL:P3D
REFRESH-INTERVAL:P3D
CALSCALE:GREGORIAN
BEGIN:VEVENT
DTSTART:20220621T123000Z
DTEND:20220621T133000Z
X-MICROSOFT-CDO-ALLDAYEVENT:FALSE
SUMMARY:Leads Group - Tuesday Morning
DESCRIPTION:Gather with like-minded Chamber members with the purpose of sharing leads\, referrals and growing each others businesses.\n\n\n\nOne member per industry in each Leads Group.\n\n\n\nFor questions\, please contact Laurie Levine at Laurie@cottagegrovechamber.org
X-ALT-DESC;FMTTYPE=text/html:<span style="font-size:16px\;"><strong background-color:="" font-size:="" style="color: rgb(0\, 0\, 255)\; font-family: sans-serif\, Arial\, Verdana\, " trebuchet="">Gather with like-minded Chamber members with the purpose of sharing leads\, referrals and growing each others businesses.<br />\n<br />\nOne member per industry in each Leads Group.<br />\n<br />\nFor questions\, please contact Laurie Levine at Laurie@cottagegrovechamber.org</strong></span>
LOCATION:Cottage Grove Area Chamber of Commerce (inside the RISE Professional Office Building) 8617 West Point Douglas Road\, Suite 150 Cottage Grove\, MN 55016
UID:e.123.6270
SEQUENCE:3
DTSTAMP:20260424T092449Z
URL:https://business.cottagegrovechamber.org/events/details/leads-group-tuesday-morning-06-21-2022-6270
END:VEVENT

END:VCALENDAR
