BEGIN:VCALENDAR
VERSION:2.0
PRODID:-//ChamberMaster//Event Calendar 2.0//EN
METHOD:PUBLISH
X-PUBLISHED-TTL:P3D
REFRESH-INTERVAL:P3D
CALSCALE:GREGORIAN
BEGIN:VEVENT
DTSTART:20330218T134500Z
DTEND:20330218T160000Z
X-MICROSOFT-CDO-ALLDAYEVENT:FALSE
SUMMARY:Women in Business
DESCRIPTION:
X-ALT-DESC;FMTTYPE=text/html:
LOCATION:Cottage Grove City Hall Training Room 12800 Ravine Pkwy S Cottage Grove\, MN 55016
UID:e.123.6813
SEQUENCE:3
DTSTAMP:20260422T220614Z
URL:https://business.cottagegrovechamber.org/events/details/women-in-business-02-18-2033-6813
END:VEVENT

END:VCALENDAR
